BEGIN:VCALENDAR
VERSION:2.0
PRODID:-//ATV Club of Eastern Ontario - ECPv6.15.20//NONSGML v1.0//EN
CALSCALE:GREGORIAN
METHOD:PUBLISH
X-WR-CALNAME:ATV Club of Eastern Ontario
X-ORIGINAL-URL:https://atv-vtteo.org
X-WR-CALDESC:Events for ATV Club of Eastern Ontario
REFRESH-INTERVAL;VALUE=DURATION:PT1H
X-Robots-Tag:noindex
X-PUBLISHED-TTL:PT1H
BEGIN:VTIMEZONE
TZID:America/New_York
BEGIN:DAYLIGHT
TZOFFSETFROM:-0500
TZOFFSETTO:-0400
TZNAME:EDT
DTSTART:20230312T070000
END:DAYLIGHT
BEGIN:STANDARD
TZOFFSETFROM:-0400
TZOFFSETTO:-0500
TZNAME:EST
DTSTART:20231105T060000
END:STANDARD
BEGIN:DAYLIGHT
TZOFFSETFROM:-0500
TZOFFSETTO:-0400
TZNAME:EDT
DTSTART:20240310T070000
END:DAYLIGHT
BEGIN:STANDARD
TZOFFSETFROM:-0400
TZOFFSETTO:-0500
TZNAME:EST
DTSTART:20241103T060000
END:STANDARD
BEGIN:DAYLIGHT
TZOFFSETFROM:-0500
TZOFFSETTO:-0400
TZNAME:EDT
DTSTART:20250309T070000
END:DAYLIGHT
BEGIN:STANDARD
TZOFFSETFROM:-0400
TZOFFSETTO:-0500
TZNAME:EST
DTSTART:20251102T060000
END:STANDARD
BEGIN:DAYLIGHT
TZOFFSETFROM:-0500
TZOFFSETTO:-0400
TZNAME:EDT
DTSTART:20260308T070000
END:DAYLIGHT
BEGIN:STANDARD
TZOFFSETFROM:-0400
TZOFFSETTO:-0500
TZNAME:EST
DTSTART:20261101T060000
END:STANDARD
END:VTIMEZONE
BEGIN:VEVENT
DTSTART;TZID=America/New_York:20250813T190000
DTEND;TZID=America/New_York:20250813T203000
DTSTAMP:20260422T190613
CREATED:20241228T034055Z
LAST-MODIFIED:20241228T034055Z
UID:1166-1755111600-1755117000@atv-vtteo.org
SUMMARY:Monthly Board meeting
DESCRIPTION:Monthly ATVCEO Board Meeting – All are welcome
URL:https://atv-vtteo.org/event-list/monthly-board-meeting-9/
LOCATION:Ronald Lalonde Community Hall\, 2564 St Pascal Rd\, Saint-Pascal-Baylon\, Ontario\, K0A 3N0\, Canada
END:VEVENT
BEGIN:VEVENT
DTSTART;TZID=America/New_York:20250709T190000
DTEND;TZID=America/New_York:20250709T203000
DTSTAMP:20260422T190613
CREATED:20241228T033916Z
LAST-MODIFIED:20241228T035205Z
UID:1164-1752087600-1752093000@atv-vtteo.org
SUMMARY:Monthly Board meeting
DESCRIPTION:Monthly ATVCEO Board Meeting – All are welcome
URL:https://atv-vtteo.org/event-list/monthly-board-meeting-8/
LOCATION:Ronald Lalonde Community Hall\, 2564 St Pascal Rd\, Saint-Pascal-Baylon\, Ontario\, K0A 3N0\, Canada
END:VEVENT
BEGIN:VEVENT
DTSTART;TZID=America/New_York:20250611T190000
DTEND;TZID=America/New_York:20250611T203000
DTSTAMP:20260422T190613
CREATED:20241228T033753Z
LAST-MODIFIED:20241228T035125Z
UID:1161-1749668400-1749673800@atv-vtteo.org
SUMMARY:Monthly Board meeting
DESCRIPTION:Monthly ATVCEO Board Meeting – All are welcome
URL:https://atv-vtteo.org/event-list/monthly-board-meeting-7/
LOCATION:Ronald Lalonde Community Hall\, 2564 St Pascal Rd\, Saint-Pascal-Baylon\, Ontario\, K0A 3N0\, Canada
END:VEVENT
BEGIN:VEVENT
DTSTART;TZID=America/New_York:20250607T120000
DTEND;TZID=America/New_York:20250607T133000
DTSTAMP:20260422T190613
CREATED:20241209T012411Z
LAST-MODIFIED:20241229T194511Z
UID:555-1749297600-1749303000@atv-vtteo.org
SUMMARY:ATVCEO Members Appreciation Lunch Meet n‘ Greet
DESCRIPTION:Lunch: provided by club and free
URL:https://atv-vtteo.org/event-list/atvceo-members-appreciation-lunch-meet-n-greet/
LOCATION:Warmup Shack\, Trail no 121\, Plantagenet\, Ontario\, Canada
ORGANIZER;CN="Ben":MAILTO:benoit@atv-vtteo.org
END:VEVENT
BEGIN:VEVENT
DTSTART;TZID=America/New_York:20250514T191500
DTEND;TZID=America/New_York:20250514T203000
DTSTAMP:20260422T190613
CREATED:20241228T033606Z
LAST-MODIFIED:20250502T203539Z
UID:1158-1747250100-1747254600@atv-vtteo.org
SUMMARY:Monthly Board meeting
DESCRIPTION:Monthly ATVCEO Board Meeting – All are welcome
URL:https://atv-vtteo.org/event-list/monthly-board-meeting-6/
LOCATION:Ronald Lalonde Community Hall\, 2564 St Pascal Rd\, Saint-Pascal-Baylon\, Ontario\, K0A 3N0\, Canada
END:VEVENT
BEGIN:VEVENT
DTSTART;TZID=America/New_York:20250514T183000
DTEND;TZID=America/New_York:20250514T191500
DTSTAMP:20260422T190613
CREATED:20250502T203330Z
LAST-MODIFIED:20250502T203607Z
UID:2073-1747247400-1747250100@atv-vtteo.org
SUMMARY:AGM - Annual General Assembly
DESCRIPTION:Please join us for our annual general assembly\, we will be presenting our report for 2024\, financial statement for 2024 and election of directors for 2025.
URL:https://atv-vtteo.org/event-list/agm/
LOCATION:Ronald Lalonde Community Hall\, 2564 St Pascal Rd\, Saint-Pascal-Baylon\, Ontario\, K0A 3N0\, Canada
END:VEVENT
BEGIN:VEVENT
DTSTART;TZID=America/New_York:20250409T190000
DTEND;TZID=America/New_York:20250409T203000
DTSTAMP:20260422T190613
CREATED:20241228T033434Z
LAST-MODIFIED:20241228T035010Z
UID:1155-1744225200-1744230600@atv-vtteo.org
SUMMARY:Monthly Board meeting
DESCRIPTION:Monthly ATVCEO Board Meeting – All are welcome
URL:https://atv-vtteo.org/event-list/monthly-board-meeting-5/
LOCATION:Ronald Lalonde Community Hall\, 2564 St Pascal Rd\, Saint-Pascal-Baylon\, Ontario\, K0A 3N0\, Canada
END:VEVENT
BEGIN:VEVENT
DTSTART;TZID=America/New_York:20250312T190000
DTEND;TZID=America/New_York:20250312T203000
DTSTAMP:20260422T190613
CREATED:20241228T033258Z
LAST-MODIFIED:20241228T034919Z
UID:1152-1741806000-1741811400@atv-vtteo.org
SUMMARY:Monthly Board meeting
DESCRIPTION:Monthly ATVCEO Board Meeting – All are welcome
URL:https://atv-vtteo.org/event-list/monthly-board-meeting-4/
LOCATION:Ronald Lalonde Community Hall\, 2564 St Pascal Rd\, Saint-Pascal-Baylon\, Ontario\, K0A 3N0\, Canada
END:VEVENT
BEGIN:VEVENT
DTSTART;TZID=America/New_York:20250212T190000
DTEND;TZID=America/New_York:20250212T203000
DTSTAMP:20260422T190613
CREATED:20241228T033019Z
LAST-MODIFIED:20250212T122731Z
UID:1149-1739386800-1739392200@atv-vtteo.org
SUMMARY:CANCELLED - Monthly Board meeting
DESCRIPTION:Please note that this meeting has been cancelled do to the upcoming snow storm.
URL:https://atv-vtteo.org/event-list/monthly-board-meeting-3/
LOCATION:Ronald Lalonde Community Hall\, 2564 St Pascal Rd\, Saint-Pascal-Baylon\, Ontario\, K0A 3N0\, Canada
END:VEVENT
BEGIN:VEVENT
DTSTART;TZID=America/New_York:20250208T083000
DTEND;TZID=America/New_York:20250208T170000
DTSTAMP:20260422T190613
CREATED:20241209T011853Z
LAST-MODIFIED:20250130T235447Z
UID:550-1739003400-1739034000@atv-vtteo.org
SUMMARY:Day Ride
DESCRIPTION:08:30 – 9:45 Registration  Please fill out a waiver in advance (driver and passengers)\n10:00 – 17:00 Ride (Requires a valid OFATV (QuadON) annual or temporary permit)\n\nLunch at your expense – Fromagerie St-Albert\, 150 rue Paul\, St-Albert
URL:https://atv-vtteo.org/event-list/food-bank-fundraiser-ride/
LOCATION:Wendover Community Center\, 5000 Centre Street\, Wendover\, Ontario\, Canada
END:VEVENT
BEGIN:VEVENT
DTSTART;TZID=America/New_York:20250118T170000
DTEND;TZID=America/New_York:20250118T220000
DTSTAMP:20260422T190613
CREATED:20241209T011526Z
LAST-MODIFIED:20241231T220736Z
UID:548-1737219600-1737237600@atv-vtteo.org
SUMMARY:ATVCEO 20th Anniversary Supper and Night Ride
DESCRIPTION:17:00 – 18:45 Beans/Hot Dog supper\n17:00 – 18:45 Ride registration\n19:00 – 22:00 Ride to shack for bon fire (Requires a valid OFATV (QuadON) annual or temporary permit)\n\nCost: $15 for the supper\, ride is free\nPlease complete the waiver before the ride
URL:https://atv-vtteo.org/event-list/atvceo-20th-anniversary-supper-and-night-ride/
LOCATION:Ronald Lalonde Community Hall\, 2564 St Pascal Rd\, Saint-Pascal-Baylon\, Ontario\, K0A 3N0\, Canada
END:VEVENT
BEGIN:VEVENT
DTSTART;TZID=America/New_York:20250108T190000
DTEND;TZID=America/New_York:20250108T203000
DTSTAMP:20260422T190613
CREATED:20241128T023819Z
LAST-MODIFIED:20241128T023819Z
UID:403-1736362800-1736368200@atv-vtteo.org
SUMMARY:Monthly Board meeting
DESCRIPTION:Monthly ATVCEO Board Meeting – All are welcome
URL:https://atv-vtteo.org/event-list/monthly-board-meeting-2/
LOCATION:Ronald Lalonde Community Hall\, 2564 St Pascal Rd\, Saint-Pascal-Baylon\, Ontario\, K0A 3N0\, Canada
END:VEVENT
BEGIN:VEVENT
DTSTART;TZID=America/New_York:20241211T170000
DTEND;TZID=America/New_York:20241211T203000
DTSTAMP:20260422T190613
CREATED:20241128T024106Z
LAST-MODIFIED:20241206T004006Z
UID:405-1733936400-1733949000@atv-vtteo.org
SUMMARY:Board holiday dinner
DESCRIPTION:Board members are invited to join from 17:00-19:00 \n  \nAt 19:00 the general meeting will begin and everyone is welcomed to join.
URL:https://atv-vtteo.org/event-list/board-holidays-dinner/
LOCATION:Private: Ruby House\, 1781 laurier\, Rockland\, Ontario\, Canada
END:VEVENT
BEGIN:VEVENT
DTSTART;TZID=America/New_York:20241201T173000
DTEND;TZID=America/New_York:20241201T190000
DTSTAMP:20260422T190613
CREATED:20241128T023251Z
LAST-MODIFIED:20241128T023437Z
UID:398-1733074200-1733079600@atv-vtteo.org
SUMMARY:Casselman Christmas Parade
DESCRIPTION:The Casselman Christmas Festival wraps up with a special nighttime christmas parade. This illuminated parade is favoured by young and old. It will start at 5:30 around Richer Circle.
URL:https://atv-vtteo.org/event-list/casselman-christman-parade/
LOCATION:Ontario
END:VEVENT
BEGIN:VEVENT
DTSTART;TZID=America/New_York:20241201T163000
DTEND;TZID=America/New_York:20241201T180000
DTSTAMP:20260422T190613
CREATED:20241128T023118Z
LAST-MODIFIED:20241128T023118Z
UID:396-1733070600-1733076000@atv-vtteo.org
SUMMARY:Rockland Santa Clause Parade
DESCRIPTION:The magic of Christmas is coming to Clarence-Rockland!\nThe City of Clarence-Rockland and the Royal Bank\, in collaboration with Breuwerk Hoffman\, RiverRock Inn\, Rockland Marine\, and New Beginning Church\, invite you to the Christmas Parade of Lights on Sunday\, December 1st at 4:30 PM!
URL:https://atv-vtteo.org/event-list/rockland-santa-clause-parade/
LOCATION:Ontario
END:VEVENT
BEGIN:VEVENT
DTSTART;TZID=America/New_York:20241130T183000
DTEND;TZID=America/New_York:20241130T200000
DTSTAMP:20260422T190613
CREATED:20241128T023421Z
LAST-MODIFIED:20241128T023421Z
UID:400-1732991400-1732996800@atv-vtteo.org
SUMMARY:Limoges Christmas Parade
DESCRIPTION:The Limoges Firefighters Association is organizing the annual Christmas Parade. We want to see as many floats as possible this year. Individuals\, Business\, Organizations\, Etc we want you to join in the fun!
URL:https://atv-vtteo.org/event-list/limoges-christmas-parade/
LOCATION:Ontario
END:VEVENT
BEGIN:VEVENT
DTSTART;TZID=America/New_York:20241113T190000
DTEND;TZID=America/New_York:20241113T203000
DTSTAMP:20260422T190613
CREATED:20241027T031920Z
LAST-MODIFIED:20241027T032828Z
UID:84-1731524400-1731529800@atv-vtteo.org
SUMMARY:Monthly Board Meeting
DESCRIPTION:Monthly ATVCEO Board Meeting – All are welcome
URL:https://atv-vtteo.org/event-list/monthly-board-meeting/
LOCATION:Ronald Lalonde Community Hall\, 2564 St Pascal Rd\, Saint-Pascal-Baylon\, Ontario\, K0A 3N0\, Canada
END:VEVENT
BEGIN:VEVENT
DTSTART;TZID=America/New_York:20241109T083000
DTEND;TZID=America/New_York:20241109T170000
DTSTAMP:20260422T190613
CREATED:20241027T032119Z
LAST-MODIFIED:20241029T020730Z
UID:88-1731141000-1731171600@atv-vtteo.org
SUMMARY:Veterans Fundraiser Ride
DESCRIPTION:*Soldier On is a program of the Canadian Armed Forces which contributes to the recovery of ill and injured CAF members and veterans by providing opportunities and resources.Registration (driver & passenger): Between 08:30 – 09:50. Bring proof of OFATV (QuadON) permit. Annual/day permit available online at https://getapermit.ofatv.org. Select ATV Club of Eastern Ontario as club of choice. Limited number of day permit ($25) available on site.Route: Ride from St-Pascal through the Larose forest to St-Albert Cheese Factory – approx 100 km returnLunch: At your expense at St-Albert Cheese FactoryPersonal Donations: https://www.soldieron.ca/Donate
URL:https://atv-vtteo.org/event-list/veterans-fundraiser-rideveterans-fundraiser-ride/
LOCATION:Ronald Lalonde Community Hall\, 2564 St Pascal Rd\, Saint-Pascal-Baylon\, Ontario\, K0A 3N0\, Canada
END:VEVENT
END:VCALENDAR