BEGIN:VCALENDAR
VERSION:2.0
PRODID:-//Club de VTT de l’est Ontario - ECPv6.15.20//NONSGML v1.0//EN
CALSCALE:GREGORIAN
METHOD:PUBLISH
X-WR-CALNAME:Club de VTT de l’est Ontario
X-ORIGINAL-URL:https://atv-vtteo.org/fr/
X-WR-CALDESC:Évènements pour Club de VTT de l’est Ontario
REFRESH-INTERVAL;VALUE=DURATION:PT1H
X-Robots-Tag:noindex
X-PUBLISHED-TTL:PT1H
BEGIN:VTIMEZONE
TZID:America/New_York
BEGIN:DAYLIGHT
TZOFFSETFROM:-0500
TZOFFSETTO:-0400
TZNAME:EDT
DTSTART:20240310T070000
END:DAYLIGHT
BEGIN:STANDARD
TZOFFSETFROM:-0400
TZOFFSETTO:-0500
TZNAME:EST
DTSTART:20241103T060000
END:STANDARD
BEGIN:DAYLIGHT
TZOFFSETFROM:-0500
TZOFFSETTO:-0400
TZNAME:EDT
DTSTART:20250309T070000
END:DAYLIGHT
BEGIN:STANDARD
TZOFFSETFROM:-0400
TZOFFSETTO:-0500
TZNAME:EST
DTSTART:20251102T060000
END:STANDARD
BEGIN:DAYLIGHT
TZOFFSETFROM:-0500
TZOFFSETTO:-0400
TZNAME:EDT
DTSTART:20260308T070000
END:DAYLIGHT
BEGIN:STANDARD
TZOFFSETFROM:-0400
TZOFFSETTO:-0500
TZNAME:EST
DTSTART:20261101T060000
END:STANDARD
END:VTIMEZONE
BEGIN:VEVENT
DTSTART;TZID=America/New_York:20251008T190000
DTEND;TZID=America/New_York:20251008T203000
DTSTAMP:20260422T193917
CREATED:20241228T034353Z
LAST-MODIFIED:20241228T034353Z
UID:1174-1759950000-1759955400@atv-vtteo.org
SUMMARY:Réunion mensuelle du conseil d'administration
DESCRIPTION:Réunion mensuelle du conseil d’administration du CVTTEO – Bienvenue à tous
URL:https://atv-vtteo.org/fr/event-fr/reunion-mensuelle-du-conseil-dadministration-9/
LOCATION:Salle communautaire Ronald Lalonde\, 2564 rue St Pascal\, Saint-Pascal-Baylon\, Ontario\, K0A 3N0\, Canada
END:VEVENT
BEGIN:VEVENT
DTSTART;TZID=America/New_York:20251018T083000
DTEND;TZID=America/New_York:20251018T170000
DTSTAMP:20260422T193917
CREATED:20241209T012633Z
LAST-MODIFIED:20251011T005235Z
UID:740-1760776200-1760806800@atv-vtteo.org
SUMMARY:Randonnée de collecte de fonds pour le cancer de l'ovaire
DESCRIPTION:Venez nous rejoindre pour une randonnée amusante afin d’amasser des fonds pour une grande cause !\n\n08 h 30 – 9 h 45 Inscription au Centre communautaire de Wendover\, 5000\, rue Centre\, Wendover\, Ontario\n10:00 – 17:00 Randonnée (nécessite un permis annuel ou temporaire valide de l’OFATV (QuadON))\n\n\nLe conducteur et le passager doivent remplir un formulaire de renonciation distinct avant le trajet. Pas besoin d’imprimer une copie. Note au passager : inscrivez votre nom et vos informations sur le formulaire de renonciation avec le numéro de permis ATV/SxS sur lequel vous êtes le passager.  \nCoût : 20 $/personne – 5 $ pour un enfant de 12 ans et moins.\nPreuve de permis de sentier OFATV (QuadON) requise • Permis d’une journée limitée disponibles sur place (30 $). Note; Si vous achetez votre permis d’une journée sur place\, vous ne pourrez pas remplir la renonciation en ligne. Des dispenses papier seront disponibles pour être remplies.  \nDîner : hot-dogs\, croustilles et breuvages gratuits au stationnement P5 dans la forêt Larose\nPrix de présence tirés au dîner\nSi vous ne pouvez participer ou si vous souhaitez faire un don supplémentaire\, veuillez vous rendre sur le site Cancer de l’ovaire Canada
URL:https://atv-vtteo.org/fr/event-fr/randonnee-de-collecte-de-fonds-pour-le-cancer-de-lovaire/
LOCATION:Centre communautaire de Wendover\, 5000 rue Centre\, Wendover\, Ontario\, Canada
ATTACH;FMTTYPE=image/jpeg:https://atv-vtteo.org/wp-content/uploads/2024/12/cancer-2.jpg
END:VEVENT
END:VCALENDAR